BEGIN:VCALENDAR
VERSION:2.0
PRODID:-//Tukios.com/
BEGIN:VEVENT
UID:63badf58-77c5-4cdb-a1d1-4c994ab4634d@www.kepikefuneral.com
DTSTAMP:20260425T193133Z
DTSTART:20260429T140000Z
DTEND:20260429T150000Z
SUMMARY:Visitation
DESCRIPTION:
URL:https://www.kepikefuneral.com/obituaries/ronald-atwood
LOCATION: 13603 Northland Dr.  Cedar Springs MI 49319
GEO:43.2131025;-85.5516678
END:VEVENT
END:VCALENDAR