BEGIN:VCALENDAR
VERSION:2.0
PRODID:-//Tukios.com/
BEGIN:VEVENT
UID:2a4f5bf2-a27b-4825-a6ec-789ac13f8648@www.kepikefuneral.com
DTSTAMP:20260425T193012Z
DTSTART:20260429T150000Z
DTEND:20260429T160000Z
SUMMARY:Funeral Service
DESCRIPTION:
URL:https://www.kepikefuneral.com/obituaries/ronald-atwood
LOCATION:K.E. Pike Funeral Home 13603 Northland Dr.  Cedar Springs MI 
	49319
GEO:43.2131025;-85.5516678
END:VEVENT
END:VCALENDAR