BEGIN:VCALENDAR
VERSION:2.0
PRODID:-//Tukios.com/
BEGIN:VEVENT
UID:ad7093d3-5972-48c2-9b1c-9fac55b46138@www.kepikefuneral.com
DTSTAMP:20260425T193316Z
DTSTART:20260428T220000Z
DTEND:20260429T000000Z
SUMMARY:Visitation
DESCRIPTION:
URL:https://www.kepikefuneral.com/obituaries/ronald-atwood
LOCATION:K.E. Pike Funeral Home 13603 Northland Dr.  Cedar Springs MI 
	49319
GEO:43.2131025;-85.5516678
END:VEVENT
END:VCALENDAR