BEGIN:VCALENDAR
VERSION:2.0
PRODID:-//Tukios.com/
BEGIN:VEVENT
UID:cdfdc6d2-47c1-4ea0-8bd1-a97f88af01d9@www.kepikefuneral.com
DTSTAMP:20260425T192855Z
DTSTART:20260428T180000Z
DTEND:20260428T200000Z
SUMMARY:Visitation
DESCRIPTION:
URL:https://www.kepikefuneral.com/obituaries/ronald-atwood
LOCATION:K.E. Pike Funeral Home 13603 Northland Dr.  Cedar Springs MI 
	49319
GEO:43.2131025;-85.5516678
END:VEVENT
END:VCALENDAR