BEGIN:VCALENDAR
VERSION:2.0
PRODID:-//Tukios.com/
BEGIN:VEVENT
UID:597c3c35-9ace-48b9-a7d1-d0302721d6ff@www.kepikefuneral.com
DTSTAMP:20260421T203117Z
DTSTART:20260423T220000Z
DTEND:20260423T230000Z
SUMMARY:Funeral Service
DESCRIPTION:
URL:https://www.kepikefuneral.com/obituaries/patrick-zondervan
LOCATION:K.E. Pike Funeral Home 13603 Northland Dr.  Cedar Springs MI 
	49319
GEO:43.2131025;-85.5516678
END:VEVENT
END:VCALENDAR