BEGIN:VCALENDAR
VERSION:2.0
PRODID:-//Tukios.com/
BEGIN:VEVENT
UID:62344ce4-5e93-482b-9289-0788e4e87590@www.kepikefuneral.com
DTSTAMP:20260421T203156Z
DTSTART:20260423T200000Z
DTEND:20260423T220000Z
SUMMARY:Visitation
DESCRIPTION:
URL:https://www.kepikefuneral.com/obituaries/patrick-zondervan
LOCATION:K.E. Pike Funeral Home 13603 Northland Dr.  Cedar Springs MI 
	49319
GEO:43.2131025;-85.5516678
END:VEVENT
END:VCALENDAR