BEGIN:VCALENDAR
VERSION:2.0
PRODID:-//Tukios.com/
BEGIN:VEVENT
UID:f45aef2b-a6f4-43ea-8633-69c208c50092@www.kepikefuneral.com
DTSTAMP:20260420T204809Z
DTSTART:20260502T153000Z
DTEND:20260502T163000Z
SUMMARY:Mass of Christian Burial
DESCRIPTION:
URL:https://www.kepikefuneral.com/obituaries/justin-miller
LOCATION:6707 175th St 6707 175th St  Tinley Park IL 60477
GEO:41.5728259;-87.7816678
END:VEVENT
END:VCALENDAR