BEGIN:VCALENDAR
VERSION:2.0
PRODID:-//Tukios.com/
BEGIN:VEVENT
UID:caf74a20-b091-4ccf-b5e2-1d4974ca1660@www.kepikefuneral.com
DTSTAMP:20260420T205052Z
DTSTART:20260502T130000Z
DTEND:20260502T150000Z
SUMMARY:Memorial Visitation
DESCRIPTION:
URL:https://www.kepikefuneral.com/obituaries/justin-miller
LOCATION:Brady Gill Funeral Home 16600 Oak Park Avenue  Tinley Park IL 
	60477
GEO:41.5899454;-87.7853641
END:VEVENT
END:VCALENDAR