BEGIN:VCALENDAR
VERSION:2.0
PRODID:-//Tukios.com/
BEGIN:VEVENT
UID:f17971b2-0277-4447-a654-bcce990d2ff4@www.kepikefuneral.com
DTSTAMP:20260420T200410Z
DTSTART:20260423T150000Z
DTEND:20260423T160000Z
SUMMARY:Funeral Service
DESCRIPTION:
URL:https://www.kepikefuneral.com/obituaries/george-deyoung
LOCATION: 13603 Northland Dr.  Cedar Springs MI 49319
GEO:43.2131025;-85.5516678
END:VEVENT
END:VCALENDAR