BEGIN:VCALENDAR
VERSION:2.0
PRODID:-//Tukios.com/
BEGIN:VEVENT
UID:3234f5e4-f611-4d84-8100-12cf744ada5f@www.kepikefuneral.com
DTSTAMP:20260420T200419Z
DTSTART:20260423T140000Z
DTEND:20260423T150000Z
SUMMARY:Visitation
DESCRIPTION:
URL:https://www.kepikefuneral.com/obituaries/george-deyoung
LOCATION: 13603 Northland Dr.  Cedar Springs MI 49319
GEO:43.2131025;-85.5516678
END:VEVENT
END:VCALENDAR